BEGIN:VCALENDAR
VERSION:2.0
PRODID:-//192.254.225.195//NONSGML kigkonsult.se iCalcreator 2.26.9//
CALSCALE:GREGORIAN
METHOD:PUBLISH
X-FROM-URL:http://fbcdwight.org
X-WR-TIMEZONE:Atlantic/Azores
BEGIN:VTIMEZONE
TZID:Atlantic/Azores
X-LIC-LOCATION:Atlantic/Azores
BEGIN:STANDARD
DTSTART:20251026T010000
TZOFFSETFROM:+0000
TZOFFSETTO:-0100
RDATE:20261025T010000
TZNAME:-01
END:STANDARD
BEGIN:DAYLIGHT
DTSTART:20260329T000000
TZOFFSETFROM:-0100
TZOFFSETTO:+0000
RDATE:20270328T000000
TZNAME:+00
END:DAYLIGHT
END:VTIMEZONE
BEGIN:VEVENT
UID:1EEAFE62-84B8-4F4C-AB17-80FCF1B35747
DTSTAMP:20260423T141247Z
CATEGORIES:
CONTACT:
DESCRIPTION:<body><span class='cp-load-after-post'></span></body>
DTSTART;VALUE=DATE:20230425
DTEND;VALUE=DATE:20230426
EXDATE;TZID=Atlantic/Azores:19700822T000000
EXDATE;TZID=Atlantic/Azores:19700822T000000
EXDATE;TZID=Atlantic/Azores:19700822T000000
EXDATE;TZID=Atlantic/Azores:19700822T000000
EXDATE;TZID=Atlantic/Azores:19700822T000000
RRULE:FREQ=WEEKLY;UNTIL=20230718
SEQUENCE:0
SUMMARY:Ladies Soulwinning – 10-12
URL:http://fbcdwight.org/event/ladies-soulwinning-10-12-3/
END:VEVENT
END:VCALENDAR
